BEGIN:VCALENDAR
VERSION:2.0
PRODID:-//Contratero//ES
CALSCALE:GREGORIAN
METHOD:PUBLISH
BEGIN:VEVENT
UID:EA25 007@contratero.es
DTSTAMP:20260422T134130Z
DTSTART:20251118T235959
DTEND:20251119T005959
SUMMARY:Cierre: Contrato del servicio de consultoría\, integración 
DESCRIPTION:Contrato del servicio de consultoría\, integración e implantación\, migración y mantenimiento de Microsoft Dynamics 365 Business Central Cloud para Extremadura Avante\, S.L.U. y sus sociedades filiales\\n\\nOrganismo: Dirección General de Extremadura Avante S.L.U.\\n\\nVer en Contratero: https://contratero.es/contracts/EA25 007
URL:https://contratero.es/contracts/EA25 007
STATUS:CONFIRMED
BEGIN:VALARM
TRIGGER:-P1D
ACTION:DISPLAY
DESCRIPTION:Recordatorio: Contrato del servicio de consu
END:VALARM
END:VEVENT
END:VCALENDAR